BEGIN:VCALENDAR
VERSION:2.0
PRODID:-//Chew Stoke Parish Council//Meeting Calendar//EN
CALSCALE:GREGORIAN
METHOD:PUBLISH
BEGIN:VEVENT
UID:70565-20250508@chewstokeparishcouncil.gov.uk
DTSTAMP:20260422T084657Z
DTSTART;VALUE=DATE:20250508
DTEND;VALUE=DATE:20250509
SUMMARY:Annual Meeting &#8211\\; 8th May 2025
DESCRIPTION:Annual Parish Council Meeting Meeting\nView details: https://chewstokeparishcouncil.gov.uk/meetings/annual-meeting-8th-may-2025/
URL:https://chewstokeparishcouncil.gov.uk/meetings/annual-meeting-8th-may-2025/
END:VEVENT
END:VCALENDAR
