BEGIN:VCALENDAR
VERSION:2.0
PRODID:-//Chew Stoke Parish Council//Meeting Calendar//EN
CALSCALE:GREGORIAN
METHOD:PUBLISH
BEGIN:VEVENT
UID:70579-20240509@chewstokeparishcouncil.gov.uk
DTSTAMP:20260422T101859Z
DTSTART;VALUE=DATE:20240509
DTEND;VALUE=DATE:20240510
SUMMARY:Annual Meeting &#8211\\; 9th May 2024
DESCRIPTION:Annual Parish Council Meeting Meeting\nView details: https://chewstokeparishcouncil.gov.uk/meetings/annual-meeting-9th-may-2024/
URL:https://chewstokeparishcouncil.gov.uk/meetings/annual-meeting-9th-may-2024/
END:VEVENT
END:VCALENDAR
